BEGIN:VCALENDAR
VERSION:2.0
PRODID:-//Ferron - ECPv6.15.16//NONSGML v1.0//EN
CALSCALE:GREGORIAN
METHOD:PUBLISH
X-WR-CALNAME:Ferron
X-ORIGINAL-URL:https://ferronheerenveen.nl
X-WR-CALDESC:Evenementen voor Ferron
REFRESH-INTERVAL;VALUE=DURATION:PT1H
X-Robots-Tag:noindex
X-PUBLISHED-TTL:PT1H
BEGIN:VTIMEZONE
TZID:UTC
BEGIN:STANDARD
TZOFFSETFROM:+0000
TZOFFSETTO:+0000
TZNAME:UTC
DTSTART:20240101T000000
END:STANDARD
END:VTIMEZONE
BEGIN:VEVENT
DTSTART;TZID=UTC:20250330T153000
DTEND;TZID=UTC:20250330T180000
DTSTAMP:20260419T122506
CREATED:20250113T141044Z
LAST-MODIFIED:20250113T145146Z
UID:2021-1743348600-1743357600@ferronheerenveen.nl
SUMMARY:Band Tuff Luck
DESCRIPTION:Tuff Luck is de band van zanger gitarist Rogier Trampe en toetsenist Kees Bode (ja die van De Kast). Vrienden waarbij plezier maken voorop staat en met een gedeelde liefde voor de blues in de stijl van Clapton\, Keb’Mo en Cray. Tijdens een show van Tuff Luck waan jij je in het Chicago van de dertiger jaren waarbij het onmogelijk is niet te bewegen op de opzwepende muziek. \nTuff Luck speelt hoofdzakelijk eigen nummers. Ze hebben 2 pracht CDs op hun naam staan.
URL:https://ferronheerenveen.nl/live-muziek/henk-kuyper-2/
LOCATION:Podium Ferron\, Lindegracht 21\, Heerenveen\, 8441 GK\, Netherlands
CATEGORIES:Live Muziek
END:VEVENT
BEGIN:VEVENT
DTSTART;TZID=UTC:20250316T150000
DTEND;TZID=UTC:20250316T173000
DTSTAMP:20260419T122506
CREATED:20250213T125506Z
LAST-MODIFIED:20250313T170242Z
UID:2088-1742137200-1742146200@ferronheerenveen.nl
SUMMARY:Poëzie en Muziek
DESCRIPTION:Op zondagmiddag 16 maart opent Podium Ferron opnieuw zijn deuren voor een middag vol krachtige poëzie en sfeervolle muziek met pauzes ertussendoor. Dichters en muzikanten nemen je mee in hun wereld\, met verhalen die raken en klanken die verbinden. \nMet optredens van: \nErik de Boer de DaDa dichter van DR88\, Fryslân Een Waging Pogen \nVrouwenFeest : Ria Westerhuis en Delia Bremer erotische gedichten in de Drenthse taal : MinneZinne. \nRick Kewal Gademann uit Arnhem Hey Man ! gedichten theater.Fred Hoekstra Oldeberkoop Spoken Word poems2music op soundscapes van global jazz & fusion ‘Ik Ben Gedicht’ \nReinder vd Woude en Maddy Rentenaar beiden gitaar en zang‘kleinkunst’ met een Dikke Pluim in Duo RENDIER & SEMBLE\, Amsterdam \n📍 Restaurant Ferron\, Heerenveen🕒 15:00 – 17:30 uur (met een sfeervolle pauze) \nLaat je verrassen door taal\, muziek en de kracht van het gesproken woord. Mis deze tweede en laatste editie niet!
URL:https://ferronheerenveen.nl/live-muziek/poezie-en-muziek-op-podium-ferron/
LOCATION:Podium Ferron\, Lindegracht 21\, Heerenveen\, 8441 GK\, Netherlands
CATEGORIES:Live Muziek
END:VEVENT
BEGIN:VEVENT
DTSTART;TZID=UTC:20250223T153000
DTEND;TZID=UTC:20250223T180000
DTSTAMP:20260419T122506
CREATED:20250113T140918Z
LAST-MODIFIED:20250113T145115Z
UID:2018-1740324600-1740333600@ferronheerenveen.nl
SUMMARY:GROEN
DESCRIPTION:GROEN is een nieuwe Groningse jazz-soul-blues formatie rondom Ariënne Groenewoud\, een zangeres met een prachtige volle stem die met regelmaat te horen is in diverse pop\, rock\, jazz en big bands in theaters en op festivals. Deze nieuwe band speelt een gevarieerd repertoire waarin Ariënne haar  muzikaliteit alle ruimte krijgt en haar prachtige stem volledig tot zijn recht komt. \nIn GROEN laat Ariënne zich begeleiden door een ervaren ritmesectie met Bert Kleijn op drums\, Chiel Wolrich op toetsen & piano en Einko Topper op bas. En voor de gelegenheid completeert Sander Baan de band op tenor saxofoon. \nLaat je verrassen en meeslepen in de wereld van soul\, swing\, ballads \, gospel en rhythm& blues en beleef de energie en intieme sfeer van Ariënne’s stem in een rijke mix van prachtige bekende en minder bekende songs! 
URL:https://ferronheerenveen.nl/live-muziek/groen/
LOCATION:Podium Ferron\, Lindegracht 21\, Heerenveen\, 8441 GK\, Netherlands
CATEGORIES:Live Muziek
END:VEVENT
BEGIN:VEVENT
DTSTART;TZID=UTC:20250126T153000
DTEND;TZID=UTC:20250126T180000
DTSTAMP:20260419T122506
CREATED:20250113T134355Z
LAST-MODIFIED:20250113T145025Z
UID:1996-1737905400-1737914400@ferronheerenveen.nl
SUMMARY:Henk Kuyper
DESCRIPTION:Troubadour Henk Kuyper opent het seizoen van 2025 en is een oude bekende in de muziekscene van Heerenveen. Hij speel al enkele decennia regelmatig op allerhande locaties en gelegenheden. \nLicht uitversterkt speelt hij met akoestische gitaar\, mondharmonica en zang in de stijl van blues\, folk\, country en popmuziek hoofdzakelijk uit de jaren 60/70.Zoals o.a. Bob Dylan\, Neil Young\, Johnny Cash\, John Denver\, Cat Stevens\, the Eagles\, Beatles\, Simon and Garfunkel\, Rolling Stones\, Creedence Clearwater Revival en Elvis Presley. Maar ook de hedendaagse muziek komt aan bod zoals Ed Sheeran en Danny Vera.
URL:https://ferronheerenveen.nl/live-muziek/henk-kuyper/
CATEGORIES:Live Muziek
ATTACH;FMTTYPE=image/jpeg:https://ferronheerenveen.nl/wp-content/uploads/2025/01/Foto-Henk-Kuyper.jpg
END:VEVENT
END:VCALENDAR